BEGIN:VCALENDAR
PRODID:Solar Promotion GmbH
CALSCALE:GREGORIAN
BEGIN:VEVENT
DTSTAMP:20260422T045904Z
DTSTART:20260623T103000
DTEND:20260623T112000
SUMMARY:Kick-Off ees Islands Challenge 2026 - Beyond Earth (in English)
TZID:Europe/Berlin
LAST-MODIFIED:20260421T103538Z
DESCRIPTION:The session will introduce the ees Island Challenge 2026 promoted by European Space Agency ESA and German Solar Association BSW.
SEQUENCE:1776833944
URL:https://www.ees-europe.com/exhibition-program/kick-off-ees-islands-challenge-2026-beyond-earth-in-english
LOCATION:ees Europe Exhibition Program\, Messe München Hall B0\, Booth B0.110
UID:48cc9987-a7a0-4713-820a-0a2187a1d5c8
END:VEVENT
END:VCALENDAR
