BEGIN:VCALENDAR
PRODID:Solar Promotion GmbH
CALSCALE:GREGORIAN
BEGIN:VEVENT
DTSTAMP:20260422T045850Z
DTSTART:20260625T100000
DTEND:20260625T105000
SUMMARY:Industry Pitches 5 (in English)
TZID:Europe/Berlin
LAST-MODIFIED:20260421T103538Z
DESCRIPTION:Exhibitors present their latest products & strategies.
SEQUENCE:1776833930
URL:https://www.ees-europe.com/exhibition-program/industry-pitches-5-in-english
LOCATION:ees Europe Exhibition Program\, Messe München Hall B0\, Booth B0.110
UID:7c640da9-ccc2-4398-b7bc-b100220df48f
END:VEVENT
END:VCALENDAR
