BEGIN:VCALENDAR
PRODID:Solar Promotion GmbH
CALSCALE:GREGORIAN
BEGIN:VEVENT
DTSTAMP:20260422T045851Z
DTSTART:20260624T150000
DTEND:20260624T160000
SUMMARY:Industry Pitches 4: BESS Innovations
TZID:Europe/Berlin
LAST-MODIFIED:20260421T103538Z
DESCRIPTION:Exhibitors present their latest products & strategies.
SEQUENCE:1776833931
URL:https://www.ees-europe.com/exhibition-program/industry-pitches-4-bess-innovations
LOCATION:ees Europe Exhibition Program\, Messe München Hall B0\, Booth B0.110
UID:0d474222-a4c4-4fc6-a7da-9821330d980f
END:VEVENT
END:VCALENDAR
