BEGIN:VCALENDAR
PRODID:Solar Promotion GmbH
CALSCALE:GREGORIAN
BEGIN:VEVENT
DTSTAMP:20260422T045844Z
DTSTART:20260624T130000
DTEND:20260624T133000
SUMMARY:Industry Pitches 3 (in English)
TZID:Europe/Berlin
LAST-MODIFIED:20260421T103537Z
DESCRIPTION:Exhibitors present their latest products & strategies.
SEQUENCE:1776833924
URL:https://www.ees-europe.com/exhibition-program/industry-pitches-3-in-english
LOCATION:ees Europe Exhibition Program\, Messe München Hall B0\, Booth B0.110
UID:d170cee2-43e5-44a8-8641-6279517afb97
END:VEVENT
END:VCALENDAR
