BEGIN:VCALENDAR
PRODID:Solar Promotion GmbH
CALSCALE:GREGORIAN
BEGIN:VEVENT
DTSTAMP:20260422T045701Z
DTSTART:20260624T100000
DTEND:20260624T103000
SUMMARY:Industry Pitches 2 (in English)
TZID:Europe/Berlin
LAST-MODIFIED:20260421T103537Z
DESCRIPTION:Exhibitors present their latest products & strategies.
SEQUENCE:1776833821
URL:https://www.ees-europe.com/exhibition-program/industry-pitches-2-in-english
LOCATION:ees Europe Exhibition Program\, Messe München Hall B0\, Booth B0.110
UID:f0b99644-a3fc-40a3-91db-982c41d9ab49
END:VEVENT
END:VCALENDAR
