BEGIN:VCALENDAR
PRODID:Solar Promotion GmbH
CALSCALE:GREGORIAN
BEGIN:VEVENT
DTSTAMP:20260422T045849Z
DTSTART:20260623T140000
DTEND:20260623T143000
SUMMARY:Industry Pitches 1 (in English)
TZID:Europe/Berlin
LAST-MODIFIED:20260421T103537Z
DESCRIPTION:Exhibitors present their latest products & strategies.
SEQUENCE:1776833929
URL:https://www.ees-europe.com/exhibition-program/industry-pitches-1-in-english
LOCATION:ees Europe Exhibition Program\, Messe München Hall B0\, Booth B0.110
UID:cc8dcd1c-3039-45d9-b268-4724585a2345
END:VEVENT
END:VCALENDAR
