BEGIN:VCALENDAR
PRODID:Solar Promotion GmbH
CALSCALE:GREGORIAN
BEGIN:VEVENT
DTSTAMP:20260422T045843Z
DTSTART:20260624T140000
DTEND:20260624T150000
SUMMARY:GTI presenting best practice for island energy systems (in English)
TZID:Europe/Berlin
LAST-MODIFIED:20260421T103537Z
DESCRIPTION:.
SEQUENCE:1776833923
URL:https://www.ees-europe.com/exhibition-program/gti-presenting-best-practice-for-island-energy-systems-in-english
LOCATION:ees Europe Exhibition Program\, Messe München Hall B0\, Booth B0.110
UID:1ded41f2-e0be-4808-9526-59d38d837897
END:VEVENT
END:VCALENDAR
