BEGIN:VCALENDAR
PRODID:Solar Promotion GmbH
CALSCALE:GREGORIAN
BEGIN:VEVENT
DTSTAMP:20260422T045700Z
DTSTART:20260624T113000
DTEND:20260624T130000
SUMMARY:Gigafactories in Europe: A Gloomy Mood in the Industry (in English)
TZID:Europe/Berlin
LAST-MODIFIED:20260421T103537Z
DESCRIPTION:Northvolt was not an isolated case: Europe's battery cell manufacturing ambitions have suffered serious setbacks. This panel discussion examines why so many projects have failed\, what structural weaknesses lie at the root - and whether Europe can still carve out a meaningful role in the global battery value chain despite the turbulence.
SEQUENCE:1776833820
URL:https://www.ees-europe.com/exhibition-program/gigafactories-in-europe-a-gloomy-mood-in-the-industry-in-english
LOCATION:ees Europe Exhibition Program\, Messe München Hall B0\, Booth B0.110
UID:2f2fd4b8-5380-440b-838a-276481f94543
END:VEVENT
END:VCALENDAR
