BEGIN:VCALENDAR
PRODID:Solar Promotion GmbH
CALSCALE:GREGORIAN
BEGIN:VEVENT
DTSTAMP:20260422T045845Z
DTSTART:20260625T130000
DTEND:20260625T143000
SUMMARY:ees Island Challenge - The Final (in English)
TZID:Europe/Berlin
LAST-MODIFIED:20260421T103537Z
DESCRIPTION:Presentation of the results\, Jury and Public Vote\, AWARD ceremony.
SEQUENCE:1776833925
URL:https://www.ees-europe.com/exhibition-program/ees-island-challenge-the-final-in-english
LOCATION:ees Europe Exhibition Program\, Messe München Hall B0\, Booth B0.110
UID:6bd20219-305f-4981-9b58-01ff5fc45bad
END:VEVENT
END:VCALENDAR
