BEGIN:VCALENDAR
PRODID:Solar Promotion GmbH
CALSCALE:GREGORIAN
BEGIN:VEVENT
DTSTAMP:20260422T045845Z
DTSTART:20260624T103000
DTEND:20260624T112000
SUMMARY:Could sodium-ion batteries be a game-changer for the battery industry? (in English)
TZID:Europe/Berlin
LAST-MODIFIED:20260421T103536Z
DESCRIPTION:Sodium-ion batteries are increasingly seen as one of the most promising approaches to affordable and resource-efficient energy storage. This session discusses whether the technology has what it takes to genuinely challenge established chemistries in key application areas - and what needs to happen for that potential to translate into real-world impact.
SEQUENCE:1776833925
URL:https://www.ees-europe.com/exhibition-program/could-sodium-ion-batteries-be-a-game-changer-for-the-battery-industry-in-english
LOCATION:ees Europe Exhibition Program\, Messe München Hall B0\, Booth B0.110
UID:c65e1add-4283-4d7b-a7d7-f5e0a15d6753
END:VEVENT
END:VCALENDAR
