BEGIN:VCALENDAR
PRODID:Solar Promotion GmbH
CALSCALE:GREGORIAN
BEGIN:VEVENT
DTSTAMP:20260422T045849Z
DTSTART:20260625T113000
DTEND:20260625T122000
SUMMARY:Circular Economy (in English)
TZID:Europe/Berlin
LAST-MODIFIED:20260421T103536Z
DESCRIPTION:As the battery market continues to grow rapidly\, end-of-life management is becoming a critical question for the entire industry. This session examines the current state of recycling technologies and infrastructure\, the demands placed by regulation and real-world operations\, and the economic realities of building a genuinely circular value chain for batteries.
SEQUENCE:1776833929
URL:https://www.ees-europe.com/exhibition-program/circular-economy-in-english
LOCATION:ees Europe Exhibition Program\, Messe München Hall B0\, Booth B0.110
UID:6845eae7-273a-4448-8ff9-8bbc9141e5d8
END:VEVENT
END:VCALENDAR
