BEGIN:VCALENDAR
PRODID:Solar Promotion GmbH
CALSCALE:GREGORIAN
BEGIN:VEVENT
DTSTAMP:20260422T045846Z
DTSTART:20260623T113000
DTEND:20260623T133000
SUMMARY:Bringing innovations from the lab to the road (in English)
TZID:Europe/Berlin
LAST-MODIFIED:20260421T103536Z
DESCRIPTION:Battery innovations born in research institutions take center stage - each team kicks off with a short elevator pitch before joining a panel discussion. Together\, they explore what it really takes to transfer scientific breakthroughs into viable products\, sharing their own journeys and debating how academia\, industry\, and policy can work better together to close the gap.
SEQUENCE:1776833926
URL:https://www.ees-europe.com/exhibition-program/bringing-innovations-from-the-lab-to-the-road-in-english
LOCATION:ees Europe Exhibition Program\, Messe München Hall B0\, Booth B0.110
UID:e0ffd7f1-213a-4008-811d-5fc847b49227
END:VEVENT
END:VCALENDAR
