BEGIN:VCALENDAR
PRODID:Solar Promotion GmbH
CALSCALE:GREGORIAN
BEGIN:VEVENT
DTSTAMP:20260422T045700Z
DTSTART:20260624T160000
DTEND:20260624T173000
SUMMARY:Beer at 4pm
TZID:Europe/Berlin
LAST-MODIFIED:20260421T103536Z
DESCRIPTION:You are invited to the ees Innovation Hub Networking Receptions! Enjoy snacks and drinks while stocks last! ees Innovation Hub Stage\, booth B0.110 | ees Connect&Create\, booth B0.150
SEQUENCE:1776833820
URL:https://www.ees-europe.com/exhibition-program/beer-at-4pm
LOCATION:ees Europe Exhibition Program\, Messe München Hall B0\, Booth B0.110
UID:0c47d5f2-0508-4aac-8ace-6fe716f5ce25
END:VEVENT
END:VCALENDAR
