BEGIN:VCALENDAR
PRODID:Solar Promotion GmbH
CALSCALE:GREGORIAN
BEGIN:VEVENT
DTSTAMP:20260422T045706Z
DTSTART:20260623T143000
DTEND:20260623T160000
SUMMARY:AI in the Battery Industry (in English)
TZID:Europe/Berlin
LAST-MODIFIED:20260421T103535Z
DESCRIPTION:Artificial intelligence is transforming the battery industry across the entire value chain - from materials discovery and manufacturing to quality control and the optimization of storage systems in the field. This session explores where AI is already delivering real impact today\, what potential remains untapped\, and what it takes for companies to successfully integrate these technologies into their operations.energy management systems (EMS) to optimise efficiency and ageing can increase profitability. This session will show how EMS can improve the performance of home storage systems\, how they can be integrated into charging infrastructures and the role of alternative storage solutions. Experts from research and industry will provide insights and discuss developments.
SEQUENCE:1776833826
URL:https://www.ees-europe.com/exhibition-program/ai-in-the-battery-industry-in-english
LOCATION:ees Europe Exhibition Program\, Messe München Hall B0\, Booth B0.110
UID:375d1d6d-ed79-4cf8-bf8e-eb14a8b52759
END:VEVENT
END:VCALENDAR
