BEGIN:VCALENDAR
PRODID:Solar Promotion GmbH
CALSCALE:GREGORIAN
BEGIN:VEVENT
DTSTAMP:20260422T045903Z
DTSTART:20260623T103000
DTEND:20260623T112000
SUMMARY:Kick-Off ees Islands Challenge 2026 - Beyond Earth (auf Englisch)
TZID:Europe/Berlin
LAST-MODIFIED:20260421T102404Z
DESCRIPTION:-
SEQUENCE:1776833943
URL:https://www.ees-europe.com/messeprogramm/kick-off-ees-islands-challenge-2026-beyond-earth-auf-englisch
LOCATION:ees Europe Exhibition Program\, Messe München Halle B0\, Stand B0.110
UID:a1e0a0a7-e611-4b00-a549-0e12dc8880dc
END:VEVENT
END:VCALENDAR
