BEGIN:VCALENDAR
PRODID:Solar Promotion GmbH
CALSCALE:GREGORIAN
BEGIN:VEVENT
DTSTAMP:20260422T045850Z
DTSTART:20260625T100000
DTEND:20260625T105000
SUMMARY:Industry Pitches 5 (auf Englisch)
TZID:Europe/Berlin
LAST-MODIFIED:20260421T103551Z
DESCRIPTION:Aussteller präsentieren ihre neuesten Produkte und Strategien.
SEQUENCE:1776833930
URL:https://www.ees-europe.com/messeprogramm/industry-pitches-5-auf-englisch
LOCATION:ees Europe Exhibition Program\, Messe München Halle B0\, Stand B0.110
UID:c1139b84-871c-4e4a-a82b-d5ff515bdcd5
END:VEVENT
END:VCALENDAR
