BEGIN:VCALENDAR
PRODID:Solar Promotion GmbH
CALSCALE:GREGORIAN
BEGIN:VEVENT
DTSTAMP:20260422T045904Z
DTSTART:20260624T130000
DTEND:20260624T133000
SUMMARY:Industry Pitches 3 (auf Englisch)
TZID:Europe/Berlin
LAST-MODIFIED:20260421T103551Z
DESCRIPTION:Aussteller präsentieren ihre neuesten Produkte und Strategien.
SEQUENCE:1776833944
URL:https://www.ees-europe.com/messeprogramm/industry-pitches-3-auf-englisch
LOCATION:ees Europe Exhibition Program\, Messe München Halle B0\, Stand B0.110
UID:7ab8797d-7a13-4bbe-ad53-449d5f175d47
END:VEVENT
END:VCALENDAR
