BEGIN:VCALENDAR
PRODID:Solar Promotion GmbH
CALSCALE:GREGORIAN
BEGIN:VEVENT
DTSTAMP:20260422T045903Z
DTSTART:20260624T100000
DTEND:20260624T103000
SUMMARY:Industry Pitches 2 (auf Englisch)
TZID:Europe/Berlin
LAST-MODIFIED:20260421T103550Z
DESCRIPTION:Aussteller präsentieren ihre neuesten Produkte und Strategien.
SEQUENCE:1776833943
URL:https://www.ees-europe.com/messeprogramm/industry-pitches-2-auf-englisch
LOCATION:ees Europe Exhibition Program\, Messe München Halle B0\, Stand B0.110
UID:f5be22da-5855-471d-b13c-26b684e084d4
END:VEVENT
END:VCALENDAR
