BEGIN:VCALENDAR
PRODID:Solar Promotion GmbH
CALSCALE:GREGORIAN
BEGIN:VEVENT
DTSTAMP:20260422T045708Z
DTSTART:20260623T140000
DTEND:20260623T143000
SUMMARY:Industry Pitches 1 (auf Englisch)
TZID:Europe/Berlin
LAST-MODIFIED:20260421T103540Z
DESCRIPTION:Aussteller präsentieren ihre neuesten Produkte und Strategien.
SEQUENCE:1776833828
URL:https://www.ees-europe.com/messeprogramm/industry-pitches-1-auf-englisch
LOCATION:ees Europe Exhibition Program\, Messe München Halle B0\, Stand B0.110
UID:d54ba529-fc10-4de5-856d-996a2c9ab668
END:VEVENT
END:VCALENDAR
