BEGIN:VCALENDAR
PRODID:Solar Promotion GmbH
CALSCALE:GREGORIAN
BEGIN:VEVENT
DTSTAMP:20260422T045701Z
DTSTART:20260624T140000
DTEND:20260624T150000
SUMMARY:GTI presenting best practice for island energy systems (auf Englisch)
TZID:Europe/Berlin
LAST-MODIFIED:20260421T102339Z
DESCRIPTION:.
SEQUENCE:1776833821
URL:https://www.ees-europe.com/messeprogramm/gti-presenting-best-practice-for-island-energy-systems-auf-englisch
LOCATION:ees Europe Exhibition Program\, Messe München Halle B0\, Stand B0.110
UID:c7b1d6ce-2a5a-4e90-a6ff-2d4265644abd
END:VEVENT
END:VCALENDAR
