BEGIN:VCALENDAR
PRODID:Solar Promotion GmbH
CALSCALE:GREGORIAN
BEGIN:VEVENT
DTSTAMP:20260422T045849Z
DTSTART:20260624T113000
DTEND:20260624T130000
SUMMARY:Gigafactories in Europa: Katerstimmung in der Branche (auf Englisch)
TZID:Europe/Berlin
LAST-MODIFIED:20260421T102335Z
DESCRIPTION:Northvolt war kein Einzelfall: Europas Ambitionen beim Aufbau einer eigenen Batteriezellfertigung haben schwere Rückschläge erlitten. Diese Podiumsdiskussion analysiert\, warum so viele Projekte gescheitert sind\, welche strukturellen Schwächen dahinterstecken - und wie Europa trotzdem noch eine Rolle in der globalen Batteriewertschöpfung spielen kann.
SEQUENCE:1776833929
URL:https://www.ees-europe.com/messeprogramm/gigafactories-in-europa-katerstimmung-in-der-branche-auf-englisch
LOCATION:ees Europe Exhibition Program\, Messe München Halle B0\, Stand B0.110
UID:67be06a3-b8c5-4931-9043-c8b58f95882f
END:VEVENT
END:VCALENDAR
