BEGIN:VCALENDAR
PRODID:Solar Promotion GmbH
CALSCALE:GREGORIAN
BEGIN:VEVENT
DTSTAMP:20260422T045903Z
DTSTART:20260625T130000
DTEND:20260625T143000
SUMMARY:ees Island Challenge - The Final (auf Englisch)
TZID:Europe/Berlin
LAST-MODIFIED:20260421T103539Z
DESCRIPTION:Präsentation der Ergebnisse\, Jury- und Publikumsabstimmung\, AWARD ceremony.
SEQUENCE:1776833943
URL:https://www.ees-europe.com/messeprogramm/ees-island-challenge-the-final-auf-englisch
LOCATION:ees Europe Exhibition Program\, Messe München Halle B0\, Stand B0.110
UID:1b596135-726b-4753-bde7-34b971b78990
END:VEVENT
END:VCALENDAR
