BEGIN:VCALENDAR
PRODID:Solar Promotion GmbH
CALSCALE:GREGORIAN
BEGIN:VEVENT
DTSTAMP:20260422T045707Z
DTSTART:20260624T103000
DTEND:20260624T112000
SUMMARY:Natrium-Ionen-Batterien als Gamechanger der Batterieindustrie? (auf Englisch)
TZID:Europe/Berlin
LAST-MODIFIED:20260421T102326Z
DESCRIPTION:Natrium-Ionen-Batterien gelten als einer der vielversprechendsten Ansätze für kostengünstige und ressourcenschonende Energiespeicherung. Diese Session diskutiert\, ob die Technologie das Potenzial hat\, etablierte Chemien in relevanten Anwendungsfeldern ernsthaft herauszufordern - und was es braucht\, um dieses Versprechen in die Realität zu überführen.
SEQUENCE:1776833827
URL:https://www.ees-europe.com/messeprogramm/natrium-ionen-batterien-als-gamechanger-der-batterieindustrie-auf-englisch
LOCATION:ees Europe Exhibition Program\, Messe München Halle B0\, Stand B0.110
UID:3c34fa57-b0b7-4199-bef3-4b52bb739faf
END:VEVENT
END:VCALENDAR
