BEGIN:VCALENDAR
PRODID:Solar Promotion GmbH
CALSCALE:GREGORIAN
BEGIN:VEVENT
DTSTAMP:20260422T045702Z
DTSTART:20260625T113000
DTEND:20260625T122000
SUMMARY:Circular Economy (auf Englisch)
TZID:Europe/Berlin
LAST-MODIFIED:20260421T102322Z
DESCRIPTION:Mit dem rasanten Wachstum des Batteriemarktes rückt die Frage nach dem Ende des Lebenszyklus zunehmend in den Mittelpunkt. Diese Session beleuchtet den aktuellen Stand von Recyclingtechnologien und -kapazitäten\, die Anforderungen aus Regulatorik und Praxis sowie die wirtschaftlichen Realitäten einer funktionierenden Kreislaufwirtschaft im Batteriesektor.
SEQUENCE:1776833822
URL:https://www.ees-europe.com/messeprogramm/circular-economy-auf-englisch
LOCATION:ees Europe Exhibition Program\, Messe München Halle B0\, Stand B0.110
UID:6858b154-fbd3-41db-9273-6c7aead87d5d
END:VEVENT
END:VCALENDAR
