BEGIN:VCALENDAR
PRODID:Solar Promotion GmbH
CALSCALE:GREGORIAN
BEGIN:VEVENT
DTSTAMP:20260422T045706Z
DTSTART:20260623T113000
DTEND:20260623T133000
SUMMARY:Innovationsübertragung vom Labor auf die Straße (auf Egnlisch)
TZID:Europe/Berlin
LAST-MODIFIED:20260421T102318Z
DESCRIPTION:Innovative Ausgründungen aus Forschungsinstituten stellen sich vor - mit einem Elevator-Pitch direkt von der Bühne. Anschließend diskutieren die Gründerinnen und Gründer gemeinsam\, wie der Weg von der wissenschaftlichen Idee zum marktreifen Produkt gelingt\, welche Hürden dabei auftreten und was Forschung\, Industrie und Politik tun können\, um diesen Transfer zu beschleunigen.
SEQUENCE:1776833826
URL:https://www.ees-europe.com/messeprogramm/innovationsbertragung-vom-labor-auf-die-strae-auf-egnlisch
LOCATION:ees Europe Exhibition Program\, Messe München Halle B0\, Stand B0.110
UID:0b5990f5-78d6-4bac-8b12-5490a5aea4b5
END:VEVENT
END:VCALENDAR
