BEGIN:VCALENDAR
PRODID:Solar Promotion GmbH
CALSCALE:GREGORIAN
BEGIN:VEVENT
DTSTAMP:20260422T045700Z
DTSTART:20260624T160000
DTEND:20260624T173000
SUMMARY:Bier um Vier
TZID:Europe/Berlin
LAST-MODIFIED:20260421T102310Z
DESCRIPTION:Herzliche Einladung zur ees Innovation Hub Networking Receptions! Genießen Sie Snacks und Drinks solange der Vorrat reicht! ees Innovation Hub Stage\, Stand B0.110 | ees Connect&Create\, Stand B0.150
SEQUENCE:1776833820
URL:https://www.ees-europe.com/messeprogramm/bier-um-vier
LOCATION:ees Europe Exhibition Program\, Messe München Halle B0\, Stand B0.110
UID:91c26e91-825f-4c97-9438-8095076a1c4b
END:VEVENT
END:VCALENDAR
