BEGIN:VCALENDAR
PRODID:Solar Promotion GmbH
CALSCALE:GREGORIAN
BEGIN:VEVENT
DTSTAMP:20260422T045707Z
DTSTART:20260623T143000
DTEND:20260623T160000
SUMMARY:KI in der Batteriebranche (auf Englisch)
TZID:Europe/Berlin
LAST-MODIFIED:20260421T102306Z
DESCRIPTION:Künstliche Intelligenz verändert die Batteriebranche entlang der gesamten Wertschöpfungskette - von der Materialentwicklung über Produktion und Qualitätssicherung bis hin zu Betrieb und Optimierung von Speichersystemen. Diese Session beleuchtet\, wo KI heute bereits konkret eingesetzt wird\, welches Potenzial noch ungehoben ist und welche Voraussetzungen Unternehmen mitbringen müssen\, um davon zu profitieren.Energiemanagementsysteme (EMS) können die Wirtschaftlichkeit durch Optimierung von Effizienz und Alterung steigern. Diese Session zeigt\, wie EMS die Performance von Heimspeichern verbessern\, in Ladeinfrastrukturen integriert werden und welche Rolle alternative Speicherlösungen spielen. Experten aus Forschung und Industrie geben Einblicke und diskutieren Entwicklungen.
SEQUENCE:1776833827
URL:https://www.ees-europe.com/messeprogramm/ki-in-der-batteriebranche-auf-englisch
LOCATION:ees Europe Exhibition Program\, Messe München Halle B0\, Stand B0.110
UID:19d9d1c1-9450-42a5-93f9-e4b3db34f9d6
END:VEVENT
END:VCALENDAR
