BEGIN:VCALENDAR
PRODID:Solar Promotion GmbH
CALSCALE:GREGORIAN
BEGIN:VEVENT
DTSTAMP:20260423T095557Z
DTSTART:20260624T160000
DTEND:20260624T170000
SUMMARY:Finanzierung von Speicherprojekten
TZID:Europe/Berlin
LAST-MODIFIED:20260421T101937Z
DESCRIPTION:.
SEQUENCE:1776938157
URL:https://www.ees-europe.com/messeprogramm/finanzierung-von-speicherprojekten
LOCATION:ees Europe Exhibition Program\, Messe München Halle C2\, Stand C2.230
UID:8da99013-270c-46ca-aba3-d032fd434c2e
END:VEVENT
END:VCALENDAR
