BEGIN:VCALENDAR
PRODID:Solar Promotion GmbH
CALSCALE:GREGORIAN
BEGIN:VEVENT
DTSTAMP:20260423T124703Z
DTSTART:20260625T113000
DTEND:20260625T130000
SUMMARY:C&I Speicher: Netzstabilisierung und neue Geschäftsmodelle
TZID:Europe/Berlin
LAST-MODIFIED:20260421T101935Z
DESCRIPTION:.
SEQUENCE:1776948423
URL:https://www.ees-europe.com/messeprogramm/ci-speicher-netzstabilisierung-und-neue-geschftsmodelle
LOCATION:ees Europe Exhibition Program\, Messe München Halle C2\, Stand C2.230
UID:c3be7b12-9bdf-4bf1-9c95-c9d58acd89a3
END:VEVENT
END:VCALENDAR
