BEGIN:VCALENDAR
PRODID:Solar Promotion GmbH
CALSCALE:GREGORIAN
BEGIN:VEVENT
DTSTAMP:20260422T111010Z
DTSTART:20260624T160000
DTEND:20260624T170000
SUMMARY:Navigating the Framework (auf Englisch)
TZID:Europe/Berlin
LAST-MODIFIED:20260421T101838Z
DESCRIPTION:In dieser Session werden die Vorschriften\, Normen und Genehmigungen behandelt\, die bei Wasserstoffprojekten zu beachten sind\, damit diese realisiert und finanziert werden können. Das Spektrum reicht von neuen Sicherheitsstandards für Wasserstofftankstellen in Deutschland und den Zertifizierungsanforderungen für grüne und kohlenstoffarme Kraftstoffe nach EU-Recht bis hin zu den praktischen Herausforderungen bei der Genehmigungserteilung und der Einhaltung von Umweltvorschriften\, mit denen Projekte in Schwellenländern konfrontiert sind - wo schwache Institutionen und unklare Verfahren Projekte oft schon im Keim ersticken\, bevor sie überhaupt Investoren erreichen.
SEQUENCE:1776856210
URL:https://www.ees-europe.com/messeprogramm/navigating-the-framework-auf-englisch
LOCATION:ees Europe Exhibition Program\, Messe München Halle B2\, Stand B2.550
UID:559231f4-51a5-4e8b-b1c9-8cf4f00b0708
END:VEVENT
END:VCALENDAR
