BEGIN:VCALENDAR
PRODID:Solar Promotion GmbH
CALSCALE:GREGORIAN
BEGIN:VEVENT
DTSTAMP:20260422T050640Z
DTSTART:20260624T113000
DTEND:20260624T130000
SUMMARY:Panel: Flexibilität unter Druck: SpeiFlexibility Under Pressure: Storage Between the Boom\, Regulation\, and Market Design in Germany and Europe (in German)
TZID:Europe/Berlin
LAST-MODIFIED:20260421T134318Z
DESCRIPTION:The European energy storage market is growing rapidly. In 2025 alone\, over 27 GWh of storage capacity was installed in the EU\, while Germany is seeing strong growth\, particularly in large-scale storage systems. At the same time\, implementation is lagging behind the requirements of the energy transition\, and 2026 is considered a pivotal year for setting the regulatory course. In Germany\, a sharp rise in connection requests is intersecting with new grid tariff and market design issues\, as well as uncertainties regarding the regulatory framework. Topics such as grid integration\, revenue models\, and the role of storage in the future energy system are the focus. The session brings together leading industry players\, regulators\, and policymakers to discuss key questions: - What adjustments to market and regulatory design are needed now? - How can stable and scalable revenue models for storage be developed? - What role does European harmonization play in ensuring investment security? The goal is to gain a clear understanding of the next steps toward a scalable and investment-secure storage market.
SEQUENCE:1776834400
URL:https://www.ees-europe.com/exhibition-program/panel-flexibilitt-unter-druck-speiflexibility-under-pressure-storage-between-the-boom-regulation-and-market-design-in-germany-and-europe-in-german
LOCATION:ees Europe Exhibition Program\, Messe München Hall C2\, Booth C2.230
UID:4f90a260-84a2-4288-a27f-99dcc90542a8
END:VEVENT
END:VCALENDAR
