BEGIN:VCALENDAR
PRODID:Solar Promotion GmbH
CALSCALE:GREGORIAN
BEGIN:VEVENT
DTSTAMP:20260424T085038Z
DTSTART:20260624T160000
DTEND:20260624T170000
SUMMARY:Navigating the Framework (in English)
TZID:Europe/Berlin
LAST-MODIFIED:20260421T102122Z
DESCRIPTION:This session tackles the rules\, standards and approvals that hydrogen projects must navigate to get built and financed. From new safety standards for hydrogen filling stations in Germany and the certification requirements for green and low-carbon fuels under EU law\, to the practical permitting and environmental compliance challenges facing projects in emerging markets - where weak institutions and unclear processes often stall projects before they even reach investors.
SEQUENCE:1777020638
URL:https://www.ees-europe.com/exhibition-program/navigating-the-framework-in-english
LOCATION:ees Europe Exhibition Program\, Messe München Hall B2\, Booth B2.550
UID:59b74aab-f253-480a-98cd-cefe132e86da
END:VEVENT
END:VCALENDAR
