BEGIN:VCALENDAR
PRODID:Solar Promotion GmbH
CALSCALE:GREGORIAN
BEGIN:VEVENT
DTSTAMP:20260420T133741Z
DTSTART:20260623T113000
DTEND:20260623T130000
SUMMARY:From Local Experiments to Lasting Markets: The Future of DSO Flexibility
TZID:Europe/Berlin
LAST-MODIFIED:20260417T071949Z
DESCRIPTION:As distribution system operators (DSOs) gain experience with local flexibility markets\, the focus is increasingly shifting from pilot projects to stable\, scalable and enduring solutions. This session will examine what it takes to move from experimental local flexibility schemes to robust markets that can be reliably integrated into system operation and investment planning. The discussion will address regulatory readiness\, market design choices\, standardization\, coordination with other system operators and the conditions needed to provide long-term security for flexibility providers. By bringing together DSOs\, policymakers\, market actors and technology providers\, the event aims to identify practical pathways towards sustainable local flexibility markets that support a resilient and decarbonized electricity system.
SEQUENCE:1776692261
URL:https://www.ees-europe.com/conference-program/from-local-experiments-to-lasting-markets-the-future-of-dso-flexibility
LOCATION:EM-Power Europe Conference Program\, ICM München Room 4
UID:982b1494-8d2f-4807-b95b-8baf0f74b6a4
END:VEVENT
END:VCALENDAR
