BEGIN:VCALENDAR
PRODID:Solar Promotion GmbH
CALSCALE:GREGORIAN
BEGIN:VEVENT
DTSTAMP:20260425T152749Z
DTSTART:20260622T171500
DTEND:20260622T191500
SUMMARY:Opening Night: Vision. Innovation. Change.
TZID:Europe/Berlin
LAST-MODIFIED:20260326T110945Z
DESCRIPTION:Erleben Sie die Verleihung des The smarter E AWARD und gewinnen Sie Einblicke in den Fortschritt und die Zukunftschancen der laufenden Energiewende.
SEQUENCE:1777130869
URL:https://www.ees-europe.com/rahmenprogramm/opening-night
LOCATION:The smarter E Europe\, 
UID:99df9978-dfb6-489f-bf50-1a92754472d0
END:VEVENT
END:VCALENDAR
