BEGIN:VCALENDAR
PRODID:Solar Promotion GmbH
CALSCALE:GREGORIAN
BEGIN:VEVENT
DTSTAMP:20260425T165149Z
DTSTART:20260622T170000
DTEND:20260622T190000
SUMMARY:Opening Night: Vision. Innovation. Change.
TZID:Europe/Berlin
LAST-MODIFIED:20260424T100426Z
DESCRIPTION:Bitte beachten Sie\, dass alle Konferenzsessions in englischer Sprache abgehalten werden. The Opening Night of the conferences within The smarter E Europe 2026 brings together executives\, policymakers\, analysts\, and researchers to highlight progress and future opportunities in Europe's ongoing energy transition. The session explores how solar\, storage\, e-mobility\, and smart grids can create a fully renewable\, flexible\, and resilient energy system. Speakers provide actionable insights on cross-sector innovation\, digitalization\, and new business models\, showing what has been achieved and where decisive action is needed. The event also features the presentation of The smarter E AWARD in five categories\, celebrating outstanding innovations shaping the future of integrated energy solutions. The session inspires collaboration\, sparks ideas\, and empowers participants to lead the transition forward.
SEQUENCE:1777135909
URL:https://www.ees-europe.com/konferenzprogramm/opening-night-vision-innovation-change
LOCATION:The smarter E Europe Conference Program\, ICM München Raum 1
UID:3168f67f-7d59-4651-bab0-5b42b6849040
END:VEVENT
END:VCALENDAR
