BEGIN:VCALENDAR
PRODID:Solar Promotion GmbH
CALSCALE:GREGORIAN
BEGIN:VEVENT
DTSTAMP:20260423T095726Z
DTSTART:20230523T113000
DTEND:20230523T123000
SUMMARY:PV-Batterie-Kraftwerke in Europa: Status\, Trends und Potentiale
TZID:Europe/Berlin
LAST-MODIFIED:20240910T095524Z
DESCRIPTION:Das Webinar gibt einen Einblick zum Stand dieser PV-Batterie-Kraftwerke in Europa und beleuchtet wichtige Schlüsselthemen
SEQUENCE:1776938246
URL:https://www.ees-europe.com/webinare/pv-batterie-kraftwerke-in-europa
LOCATION:ees Europe\, 
UID:013904f8-3967-4a36-9319-f0480da02612
END:VEVENT
END:VCALENDAR
