BEGIN:VCALENDAR
PRODID:Solar Promotion GmbH
CALSCALE:GREGORIAN
BEGIN:VEVENT
DTSTAMP:20260423T111639Z
DTSTART:20240619T090000
DTEND:20240619T173000
SUMMARY:Battery Day Europe 2024
TZID:Europe/Berlin
LAST-MODIFIED:20250512T131648Z
DESCRIPTION:Battery Day Europe 2024 will take place on June 19\, covering the latest technologies\, insights and forecasts from global battery industry leaders.
SEQUENCE:1776942999
URL:https://www.ees-europe.com/accompanying-program/battery-day-europe-alt
LOCATION:ees Europe\, 
UID:74dfe481-f77f-4ba7-8d1f-f9e31952a531
END:VEVENT
END:VCALENDAR
