BEGIN:VCALENDAR
PRODID:Solar Promotion GmbH
CALSCALE:GREGORIAN
BEGIN:VEVENT
DTSTAMP:20260423T084004Z
DTSTART:20260623T090000
DTEND:20260623T180000
SUMMARY:Off-Grid auf der Intersolar Europe Konferenz
TZID:Europe/Berlin
LAST-MODIFIED:20260225T131002Z
DESCRIPTION:Was braucht es\, um bezahlbare\, saubere Energie und Wasser für die ländliche Bevölkerung in Ländern mit niedrigem und mittlerem Einkommen zu sichern? Antworten bieten die Sessions der Off-Grid Conference\, die im Rahmen der Intersolar Europe Conference statfindet\, sowie ein ganztägiges Side Event.
SEQUENCE:1776933604
URL:https://www.ees-europe.com/rahmenprogramm/off-grid
LOCATION:Intersolar Europe\, 
UID:66895a3d-7a08-45b7-85e3-9a103a727509
END:VEVENT
END:VCALENDAR
