BEGIN:VCALENDAR
PRODID:Solar Promotion GmbH
CALSCALE:GREGORIAN
BEGIN:VEVENT
DTSTAMP:20260423T143547Z
DTSTART:20211019T110000
DTEND:20211019T120000
SUMMARY:Großspeichersysteme – Die Booster im Netz der Zukunft?
TZID:Europe/Berlin
LAST-MODIFIED:20211019T134448Z
DESCRIPTION:Für die Energiewende werden netzdienliche Großspeichersysteme gebraucht\, um bei steigendem Anteil an fluktuierenden erneuerbaren Energien die Netze weiter stabil halten zu können.
SEQUENCE:1776954947
URL:https://www.ees-europe.com/webinare/grossspeichersysteme-die-booster-im-netz-der-zukunft
LOCATION:ees Europe\, 19. Oktober 2021
UID:5050d725-39aa-427a-8b1c-ff65a99840de
END:VEVENT
END:VCALENDAR
